BEGIN:VCALENDAR
VERSION:2.0
PRODID:-//wp-events-plugin.com//7.2.3.1//EN
TZID:Europe/Berlin
X-WR-TIMEZONE:Europe/Berlin
BEGIN:VEVENT
UID:812@test.g-p-z.de
DTSTART;TZID=Europe/Berlin:20250109T100000
DTEND;TZID=Europe/Berlin:20250109T150000
DTSTAMP:20241230T144944Z
URL:https://test.g-p-z.de/veranstaltungen/wandern-um-den-hohentwiel/
SUMMARY:Wandern um den Hohentwiel
DESCRIPTION:
ATTACH;FMTTYPE=image/jpeg:https://test.g-p-z.de/wp-content/uploads/2024/12
 /cicuhyve__u-1.jpg
CATEGORIES:TAFF
END:VEVENT
BEGIN:VTIMEZONE
TZID:Europe/Berlin
X-LIC-LOCATION:Europe/Berlin
BEGIN:STANDARD
DTSTART:20241027T020000
TZOFFSETFROM:+0200
TZOFFSETTO:+0100
TZNAME:CET
END:STANDARD
END:VTIMEZONE
END:VCALENDAR