BEGIN:VCALENDAR
VERSION:2.0
PRODID:-//wp-events-plugin.com//7.2.3.1//EN
TZID:Europe/Berlin
X-WR-TIMEZONE:Europe/Berlin
BEGIN:VEVENT
UID:911@test.g-p-z.de
DTSTART;TZID=Europe/Berlin:20251001T124500
DTEND;TZID=Europe/Berlin:20251001T181500
DTSTAMP:20250929T130332Z
URL:https://test.g-p-z.de/veranstaltungen/theater-konstanz-2/
SUMMARY:Theater Konstanz
DESCRIPTION:
ATTACH;FMTTYPE=image/jpeg:https://test.g-p-z.de/wp-content/uploads/2025/09
 /p6rntdapbuk.jpg
CATEGORIES:ABM
END:VEVENT
BEGIN:VTIMEZONE
TZID:Europe/Berlin
X-LIC-LOCATION:Europe/Berlin
BEGIN:DAYLIGHT
DTSTART:20250330T030000
TZOFFSETFROM:+0100
TZOFFSETTO:+0200
TZNAME:CEST
END:DAYLIGHT
END:VTIMEZONE
END:VCALENDAR