BEGIN:VCALENDAR
VERSION:2.0
PRODID:-//wp-events-plugin.com//7.2.3.1//EN
TZID:Europe/Berlin
X-WR-TIMEZONE:Europe/Berlin
BEGIN:VEVENT
UID:878@test.g-p-z.de
DTSTART;TZID=Europe/Berlin:20250626T150000
DTEND;TZID=Europe/Berlin:20250626T170000
DTSTAMP:20250528T125206Z
URL:https://test.g-p-z.de/veranstaltungen/taff-von-12-uhr-bis-15-uhr-gesch
 lossen-ab-1500-uhr-kochen-und-mit-udo/
SUMMARY:TAFF von 12 UHR bis 15 Uhr geschlossen  ab 15:00 Uhr Kochen und ...
 ...mit UDO
DESCRIPTION:
ATTACH;FMTTYPE=image/jpeg:https://test.g-p-z.de/wp-content/uploads/2025/05
 /enbxkqj-88m.jpg
CATEGORIES:TAFF
END:VEVENT
BEGIN:VTIMEZONE
TZID:Europe/Berlin
X-LIC-LOCATION:Europe/Berlin
BEGIN:DAYLIGHT
DTSTART:20250330T030000
TZOFFSETFROM:+0100
TZOFFSETTO:+0200
TZNAME:CEST
END:DAYLIGHT
END:VTIMEZONE
END:VCALENDAR