BEGIN:VCALENDAR
VERSION:2.0
PRODID:-//wp-events-plugin.com//7.2.3.1//EN
TZID:Europe/Berlin
X-WR-TIMEZONE:Europe/Berlin
BEGIN:VEVENT
UID:543@test.g-p-z.de
DTSTART;TZID=Europe/Berlin:20240826T130000
DTEND;TZID=Europe/Berlin:20240826T160000
DTSTAMP:20240718T152833Z
URL:https://test.g-p-z.de/veranstaltungen/spiele-nachmittag/
SUMMARY:Spiele Nachmittag
DESCRIPTION:
CATEGORIES:TAFF
END:VEVENT
BEGIN:VTIMEZONE
TZID:Europe/Berlin
X-LIC-LOCATION:Europe/Berlin
BEGIN:DAYLIGHT
DTSTART:20240331T030000
TZOFFSETFROM:+0100
TZOFFSETTO:+0200
TZNAME:CEST
END:DAYLIGHT
END:VTIMEZONE
END:VCALENDAR