BEGIN:VCALENDAR
VERSION:2.0
PRODID:-//wp-events-plugin.com//7.2.3.1//EN
TZID:Europe/Berlin
X-WR-TIMEZONE:Europe/Berlin
BEGIN:VEVENT
UID:161@test.g-p-z.de
DTSTART;TZID=Europe/Berlin:20240901T120000
DTEND;TZID=Europe/Berlin:20240901T180000
DTSTAMP:20240321T162044Z
URL:https://test.g-p-z.de/veranstaltungen/sonntag-im-taff-mit-udo-2024-09-
 01/
SUMMARY:Sonntag im TAFF mit Udo
DESCRIPTION:
ATTACH;FMTTYPE=image/jpeg:https://test.g-p-z.de/wp-content/uploads/2024/03
 /leaves-autumn-brunches-1804646.jpg
CATEGORIES:TAFF
END:VEVENT
BEGIN:VTIMEZONE
TZID:Europe/Berlin
X-LIC-LOCATION:Europe/Berlin
BEGIN:DAYLIGHT
DTSTART:20240331T030000
TZOFFSETFROM:+0100
TZOFFSETTO:+0200
TZNAME:CEST
END:DAYLIGHT
END:VTIMEZONE
END:VCALENDAR