BEGIN:VCALENDAR
VERSION:2.0
PRODID:-//wp-events-plugin.com//7.2.3.1//EN
TZID:Europe/Berlin
X-WR-TIMEZONE:Europe/Berlin
BEGIN:VEVENT
UID:883@test.g-p-z.de
DTSTART;TZID=Europe/Berlin:20251029T173000
DTEND;TZID=Europe/Berlin:20251029T183000
DTSTAMP:20250630T121248Z
URL:https://test.g-p-z.de/veranstaltungen/singen-fuer-alle-4/
SUMMARY:Singen für Alle
DESCRIPTION:
ATTACH;FMTTYPE=image/jpeg:https://test.g-p-z.de/wp-content/uploads/2025/06
 /9dmkrbnqceg.jpg
CATEGORIES:KnallAktiv
END:VEVENT
BEGIN:VTIMEZONE
TZID:Europe/Berlin
X-LIC-LOCATION:Europe/Berlin
BEGIN:STANDARD
DTSTART:20251026T020000
TZOFFSETFROM:+0200
TZOFFSETTO:+0100
TZNAME:CET
END:STANDARD
END:VTIMEZONE
END:VCALENDAR