BEGIN:VCALENDAR
VERSION:2.0
PRODID:-//wp-events-plugin.com//7.2.3.1//EN
TZID:Europe/Berlin
X-WR-TIMEZONE:Europe/Berlin
BEGIN:VEVENT
UID:928@test.g-p-z.de
DTSTART;TZID=Europe/Berlin:20251211T133000
DTEND;TZID=Europe/Berlin:20251211T153000
DTSTAMP:20251202T141152Z
URL:https://test.g-p-z.de/veranstaltungen/plaetzchen-backen-mit-alkohol-fr
 eiem-gluehpunsch/
SUMMARY:Plätzchen backen mit Alkohol freiem Glühpunsch
DESCRIPTION:
ATTACH;FMTTYPE=image/jpeg:https://test.g-p-z.de/wp-content/uploads/2025/12
 /4zgmcmpxmmi.jpg
CATEGORIES:TAFF
END:VEVENT
BEGIN:VTIMEZONE
TZID:Europe/Berlin
X-LIC-LOCATION:Europe/Berlin
BEGIN:STANDARD
DTSTART:20251026T020000
TZOFFSETFROM:+0200
TZOFFSETTO:+0100
TZNAME:CET
END:STANDARD
END:VTIMEZONE
END:VCALENDAR