BEGIN:VCALENDAR
VERSION:2.0
PRODID:-//wp-events-plugin.com//7.2.3.1//EN
TZID:Europe/Berlin
X-WR-TIMEZONE:Europe/Berlin
BEGIN:VEVENT
UID:888@test.g-p-z.de
DTSTART;TZID=Europe/Berlin:20251118T160000
DTEND;TZID=Europe/Berlin:20251118T180000
DTSTAMP:20250630T121938Z
URL:https://test.g-p-z.de/veranstaltungen/knallaktiv-spiele-treff-5/
SUMMARY:KnallAktiv Spiele Treff
DESCRIPTION:
ATTACH;FMTTYPE=image/jpeg:https://test.g-p-z.de/wp-content/uploads/2025/06
 /3wcetbluoms.jpg
CATEGORIES:KnallAktiv
END:VEVENT
BEGIN:VTIMEZONE
TZID:Europe/Berlin
X-LIC-LOCATION:Europe/Berlin
BEGIN:STANDARD
DTSTART:20251026T020000
TZOFFSETFROM:+0200
TZOFFSETTO:+0100
TZNAME:CET
END:STANDARD
END:VTIMEZONE
END:VCALENDAR