BEGIN:VCALENDAR
VERSION:2.0
PRODID:-//wp-events-plugin.com//7.2.3.1//EN
TZID:Europe/Berlin
X-WR-TIMEZONE:Europe/Berlin
BEGIN:VEVENT
UID:815@test.g-p-z.de
DTSTART;TZID=Europe/Berlin:20250122T160000
DTEND;TZID=Europe/Berlin:20250122T180000
DTSTAMP:20241230T145720Z
URL:https://test.g-p-z.de/veranstaltungen/kino-im-taff-ziemlich-beste-freu
 nde/
SUMMARY:Kino im TAFF - Ziemlich beste Freunde
DESCRIPTION:
ATTACH;FMTTYPE=image/jpeg:https://test.g-p-z.de/wp-content/uploads/2024/12
 /brxwdf2huoa.jpg
CATEGORIES:TAFF
END:VEVENT
BEGIN:VTIMEZONE
TZID:Europe/Berlin
X-LIC-LOCATION:Europe/Berlin
BEGIN:STANDARD
DTSTART:20241027T020000
TZOFFSETFROM:+0200
TZOFFSETTO:+0100
TZNAME:CET
END:STANDARD
END:VTIMEZONE
END:VCALENDAR