BEGIN:VCALENDAR
VERSION:2.0
PRODID:-//wp-events-plugin.com//7.2.3.1//EN
TZID:Europe/Berlin
X-WR-TIMEZONE:Europe/Berlin
BEGIN:VEVENT
UID:896@test.g-p-z.de
DTSTART;TZID=Europe/Berlin:20250715T140000
DTEND;TZID=Europe/Berlin:20250715T150000
DTSTAMP:20250701T121731Z
URL:https://test.g-p-z.de/veranstaltungen/kaffeetrinken-in-der-konditorei-
 popp-und-besuchder-der-galerieschuhmacher-ich-suche-mir-mein-lieblingsbild
 /
SUMMARY:Kaffeetrinken in der Konditorei POPP und Besuchder der GalerieSchuh
 macher : "Ich suche mir mein Lieblingsbild"
DESCRIPTION:
ATTACH;FMTTYPE=image/jpeg:https://test.g-p-z.de/wp-content/uploads/2025/07
 /6oggzsc_yhc.jpg
CATEGORIES:KnallAktiv
END:VEVENT
BEGIN:VTIMEZONE
TZID:Europe/Berlin
X-LIC-LOCATION:Europe/Berlin
BEGIN:DAYLIGHT
DTSTART:20250330T030000
TZOFFSETFROM:+0100
TZOFFSETTO:+0200
TZNAME:CEST
END:DAYLIGHT
END:VTIMEZONE
END:VCALENDAR