BEGIN:VCALENDAR
VERSION:2.0
PRODID:-//wp-events-plugin.com//7.2.3.1//EN
TZID:Europe/Berlin
X-WR-TIMEZONE:Europe/Berlin
BEGIN:VEVENT
UID:152@test.g-p-z.de
DTSTART;TZID=Europe/Berlin:20250318T103000
DTEND;TZID=Europe/Berlin:20250318T123000
DTSTAMP:20240321T140948Z
URL:https://test.g-p-z.de/veranstaltungen/gemeinsames-mittagessen-kochen-2
 025-03-18/
SUMMARY:gemeinsames Mittagessen kochen
DESCRIPTION:
ATTACH;FMTTYPE=image/jpeg:https://test.g-p-z.de/wp-content/uploads/2024/03
 /breakfast-delicious-drink-1835478.jpg
CATEGORIES:TAFF
END:VEVENT
BEGIN:VTIMEZONE
TZID:Europe/Berlin
X-LIC-LOCATION:Europe/Berlin
BEGIN:STANDARD
DTSTART:20241027T020000
TZOFFSETFROM:+0200
TZOFFSETTO:+0100
TZNAME:CET
END:STANDARD
END:VTIMEZONE
END:VCALENDAR