BEGIN:VCALENDAR
VERSION:2.0
PRODID:-//wp-events-plugin.com//7.2.3.1//EN
TZID:Europe/Berlin
X-WR-TIMEZONE:Europe/Berlin
BEGIN:VEVENT
UID:126@test.g-p-z.de
DTSTART;TZID=Europe/Berlin:20240917T103000
DTEND;TZID=Europe/Berlin:20240917T123000
DTSTAMP:20240321T140948Z
URL:https://test.g-p-z.de/veranstaltungen/gemeinsames-mittagessen-kochen-2
 024-09-17/
SUMMARY:gemeinsames Mittagessen kochen
DESCRIPTION:
ATTACH;FMTTYPE=image/jpeg:https://test.g-p-z.de/wp-content/uploads/2024/03
 /breakfast-delicious-drink-1835478.jpg
CATEGORIES:TAFF
END:VEVENT
BEGIN:VTIMEZONE
TZID:Europe/Berlin
X-LIC-LOCATION:Europe/Berlin
BEGIN:DAYLIGHT
DTSTART:20240331T030000
TZOFFSETFROM:+0100
TZOFFSETTO:+0200
TZNAME:CEST
END:DAYLIGHT
END:VTIMEZONE
END:VCALENDAR