BEGIN:VCALENDAR
VERSION:2.0
PRODID:-//wp-events-plugin.com//7.2.3.1//EN
TZID:Europe/Berlin
X-WR-TIMEZONE:Europe/Berlin
BEGIN:VEVENT
UID:732@test.g-p-z.de
DTSTART;TZID=Europe/Berlin:20251031T090000
DTEND;TZID=Europe/Berlin:20251031T110000
DTSTAMP:20240909T111444Z
URL:https://test.g-p-z.de/veranstaltungen/gemeinsames-fruehstueck-im-taff-
 2025-10-31/
SUMMARY:gemeinsames Frühstück im Taff
DESCRIPTION:
ATTACH;FMTTYPE=image/jpeg:https://test.g-p-z.de/wp-content/uploads/2024/09
 /ukpl9nxsi_g.jpg
CATEGORIES:TAFF
END:VEVENT
BEGIN:VTIMEZONE
TZID:Europe/Berlin
X-LIC-LOCATION:Europe/Berlin
BEGIN:STANDARD
DTSTART:20251026T020000
TZOFFSETFROM:+0200
TZOFFSETTO:+0100
TZNAME:CET
END:STANDARD
END:VTIMEZONE
END:VCALENDAR