BEGIN:VCALENDAR
VERSION:2.0
PRODID:-//wp-events-plugin.com//7.2.3.1//EN
TZID:Europe/Berlin
X-WR-TIMEZONE:Europe/Berlin
BEGIN:VEVENT
UID:321@test.g-p-z.de
DTSTART;TZID=Europe/Berlin:20250213T120000
DTEND;TZID=Europe/Berlin:20250213T160000
DTSTAMP:20240325T155942Z
URL:https://test.g-p-z.de/veranstaltungen/gemeinsames-backen-2025-02-13/
SUMMARY:gemeinsames backen
DESCRIPTION:
ATTACH;FMTTYPE=image/jpeg:https://test.g-p-z.de/wp-content/uploads/2024/03
 /dough-floor-baking-923037.jpg
CATEGORIES:TAFF
END:VEVENT
BEGIN:VTIMEZONE
TZID:Europe/Berlin
X-LIC-LOCATION:Europe/Berlin
BEGIN:STANDARD
DTSTART:20241027T020000
TZOFFSETFROM:+0200
TZOFFSETTO:+0100
TZNAME:CET
END:STANDARD
END:VTIMEZONE
END:VCALENDAR