BEGIN:VCALENDAR
VERSION:2.0
PRODID:-//wp-events-plugin.com//7.2.3.1//EN
TZID:Europe/Berlin
X-WR-TIMEZONE:Europe/Berlin
BEGIN:VEVENT
UID:1422@test.g-p-z.de
DTSTART;TZID=Europe/Berlin:20260115T103000
DTEND;TZID=Europe/Berlin:20260115T113000
DTSTAMP:20260115T142906Z
URL:https://test.g-p-z.de/veranstaltungen/fuehrung-durch-den-nostalgischen
 -rathaussaal-in-ueberlingen/
SUMMARY:Treffen zur Führung durch den Nostalgischen Rathaussaal in Überli
 ngen
DESCRIPTION:
ATTACH;FMTTYPE=image/jpeg:https://test.g-p-z.de/wp-content/uploads/2026/01
 /217023d2-1e39-4343-9be8-3e5fa1554d37.jpg
CATEGORIES:TAFF
END:VEVENT
BEGIN:VTIMEZONE
TZID:Europe/Berlin
X-LIC-LOCATION:Europe/Berlin
BEGIN:STANDARD
DTSTART:20251026T020000
TZOFFSETFROM:+0200
TZOFFSETTO:+0100
TZNAME:CET
END:STANDARD
END:VTIMEZONE
END:VCALENDAR