BEGIN:VCALENDAR
VERSION:2.0
PRODID:-//wp-events-plugin.com//7.2.3.1//EN
TZID:Europe/Berlin
X-WR-TIMEZONE:Europe/Berlin
BEGIN:VEVENT
UID:834@test.g-p-z.de
DTSTART;TZID=Europe/Berlin:20250203T123000
DTEND;TZID=Europe/Berlin:20250203T160000
DTSTAMP:20250128T122241Z
URL:https://test.g-p-z.de/veranstaltungen/einfach-waehlen-information-zur-
 wahl/
SUMMARY:Einfach wählen: Information zur Wahl
DESCRIPTION:
ATTACH;FMTTYPE=image/jpeg:https://test.g-p-z.de/wp-content/uploads/2024/07
 /5428836.jpg
CATEGORIES:TAFF
END:VEVENT
BEGIN:VTIMEZONE
TZID:Europe/Berlin
X-LIC-LOCATION:Europe/Berlin
BEGIN:STANDARD
DTSTART:20241027T020000
TZOFFSETFROM:+0200
TZOFFSETTO:+0100
TZNAME:CET
END:STANDARD
END:VTIMEZONE
END:VCALENDAR