BEGIN:VCALENDAR
VERSION:2.0
PRODID:-//wp-events-plugin.com//7.2.3.1//EN
TZID:Europe/Berlin
X-WR-TIMEZONE:Europe/Berlin
BEGIN:VEVENT
UID:900@test.g-p-z.de
DTSTART;TZID=Europe/Berlin:20250822T140000
DTEND;TZID=Europe/Berlin:20250822T170000
DTSTAMP:20250820T155206Z
URL:https://test.g-p-z.de/veranstaltungen/e-bike-tour-zum-hofcafe-bamberge
 n/
SUMMARY:e-bike Tour zum Hofcafe Bambergen
DESCRIPTION:
ATTACH;FMTTYPE=image/jpeg:https://test.g-p-z.de/wp-content/uploads/2025/08
 /uszer4ge0x0.jpg
CATEGORIES:ABM
END:VEVENT
BEGIN:VTIMEZONE
TZID:Europe/Berlin
X-LIC-LOCATION:Europe/Berlin
BEGIN:DAYLIGHT
DTSTART:20250330T030000
TZOFFSETFROM:+0100
TZOFFSETTO:+0200
TZNAME:CEST
END:DAYLIGHT
END:VTIMEZONE
END:VCALENDAR