BEGIN:VCALENDAR
VERSION:2.0
PRODID:-//wp-events-plugin.com//7.2.3.1//EN
TZID:Europe/Berlin
X-WR-TIMEZONE:Europe/Berlin
BEGIN:VEVENT
UID:671@test.g-p-z.de
DTSTART;TZID=Europe/Berlin:20240912T100000
DTEND;TZID=Europe/Berlin:20240912T150000
DTSTAMP:20240906T100131Z
URL:https://test.g-p-z.de/veranstaltungen/e-bike-tour-in-der-ueberlinger-u
 mgebung/
SUMMARY:e-bike Tour in der Überlinger Umgebung
DESCRIPTION:
ATTACH;FMTTYPE=image/jpeg:https://test.g-p-z.de/wp-content/uploads/2024/09
 /bwxyjiyjfly.jpg
CATEGORIES:ABM,TAFF
END:VEVENT
BEGIN:VTIMEZONE
TZID:Europe/Berlin
X-LIC-LOCATION:Europe/Berlin
BEGIN:DAYLIGHT
DTSTART:20240331T030000
TZOFFSETFROM:+0100
TZOFFSETTO:+0200
TZNAME:CEST
END:DAYLIGHT
END:VTIMEZONE
END:VCALENDAR