BEGIN:VCALENDAR
VERSION:2.0
PRODID:-//wp-events-plugin.com//7.2.3.1//EN
TZID:Europe/Berlin
X-WR-TIMEZONE:Europe/Berlin
BEGIN:VEVENT
UID:932@test.g-p-z.de
DTSTART;TZID=Europe/Berlin:20260107T140000
DTEND;TZID=Europe/Berlin:20260107T180000
DTSTAMP:20260105T100151Z
URL:https://test.g-p-z.de/veranstaltungen/bleigiessen-im-frauen-cafe/
SUMMARY:Bleigießen im Frauen Café
DESCRIPTION:
ATTACH;FMTTYPE=image/jpeg:https://test.g-p-z.de/wp-content/uploads/2026/01
 /9da5qaykbi.jpg
CATEGORIES:TAFF
END:VEVENT
BEGIN:VTIMEZONE
TZID:Europe/Berlin
X-LIC-LOCATION:Europe/Berlin
BEGIN:STANDARD
DTSTART:20251026T020000
TZOFFSETFROM:+0200
TZOFFSETTO:+0100
TZNAME:CET
END:STANDARD
END:VTIMEZONE
END:VCALENDAR