BEGIN:VCALENDAR
VERSION:2.0
PRODID:-//wp-events-plugin.com//7.2.3.1//EN
TZID:Europe/Berlin
X-WR-TIMEZONE:Europe/Berlin
BEGIN:VEVENT
UID:909@test.g-p-z.de
DTSTART;TZID=Europe/Berlin:20251010T190000
DTEND;TZID=Europe/Berlin:20251010T203000
DTSTAMP:20251009T113602Z
URL:https://test.g-p-z.de/veranstaltungen/bitte-laecheln-das-leben-ist-zu-
 kurz-fuer-ein-langes-gesicht-vortrag-humortherapeut/
SUMMARY:Bitte lächeln - Das Leben ist zu kurz für ein langes Gesicht! Vor
 trag Humortherapeut
DESCRIPTION:
ATTACH;FMTTYPE=image/jpeg:https://test.g-p-z.de/wp-content/uploads/2025/09
 /Foto-Falkenbach.jpg
CATEGORIES:ABM
END:VEVENT
BEGIN:VTIMEZONE
TZID:Europe/Berlin
X-LIC-LOCATION:Europe/Berlin
BEGIN:DAYLIGHT
DTSTART:20250330T030000
TZOFFSETFROM:+0100
TZOFFSETTO:+0200
TZNAME:CEST
END:DAYLIGHT
END:VTIMEZONE
END:VCALENDAR