BEGIN:VCALENDAR
VERSION:2.0
PRODID:-//wp-events-plugin.com//7.2.3.1//EN
TZID:Europe/Berlin
X-WR-TIMEZONE:Europe/Berlin
BEGIN:VEVENT
UID:864@test.g-p-z.de
DTSTART;TZID=Europe/Berlin:20250521T130000
DTEND;TZID=Europe/Berlin:20250521T160000
DTSTAMP:20250505T140206Z
URL:https://test.g-p-z.de/veranstaltungen/besuch-von-hr-janicke-vorstand-b
 uendnis-der-gruenen/
SUMMARY:Besuch von Hr. Janicke Vorstand Bündnis der Grünen
DESCRIPTION:
ATTACH;FMTTYPE=image/jpeg:https://test.g-p-z.de/wp-content/uploads/2025/05
 /982q3u5xj0g.jpg
CATEGORIES:TAFF
END:VEVENT
BEGIN:VTIMEZONE
TZID:Europe/Berlin
X-LIC-LOCATION:Europe/Berlin
BEGIN:DAYLIGHT
DTSTART:20250330T030000
TZOFFSETFROM:+0100
TZOFFSETTO:+0200
TZNAME:CEST
END:DAYLIGHT
END:VTIMEZONE
END:VCALENDAR