BEGIN:VCALENDAR
VERSION:2.0
PRODID:-//wp-events-plugin.com//7.2.3.1//EN
TZID:Europe/Berlin
X-WR-TIMEZONE:Europe/Berlin
BEGIN:VEVENT
UID:905@test.g-p-z.de
DTSTART;TZID=Europe/Berlin:20250922T130000
DTEND;TZID=Europe/Berlin:20250922T153000
DTSTAMP:20250829T125609Z
URL:https://test.g-p-z.de/veranstaltungen/besuch-von-gpz-friedrichshafen/
SUMMARY:Besuch von GpZ Friedrichshafen
DESCRIPTION:
ATTACH;FMTTYPE=image/jpeg:https://test.g-p-z.de/wp-content/uploads/2025/08
 /GpZ-FN.png
CATEGORIES:TAFF
END:VEVENT
BEGIN:VTIMEZONE
TZID:Europe/Berlin
X-LIC-LOCATION:Europe/Berlin
BEGIN:DAYLIGHT
DTSTART:20250330T030000
TZOFFSETFROM:+0100
TZOFFSETTO:+0200
TZNAME:CEST
END:DAYLIGHT
END:VTIMEZONE
END:VCALENDAR