BEGIN:VCALENDAR
VERSION:2.0
PRODID:-//wp-events-plugin.com//7.2.3.1//EN
TZID:Europe/Berlin
X-WR-TIMEZONE:Europe/Berlin
BEGIN:VEVENT
UID:873@test.g-p-z.de
DTSTART;TZID=Europe/Berlin:20250603T130000
DTEND;TZID=Europe/Berlin:20250603T150000
DTSTAMP:20250528T113618Z
URL:https://test.g-p-z.de/veranstaltungen/ausstellung-in-der-villa-bosch/
SUMMARY:Ausstellung in der Villa Bosch
DESCRIPTION:
ATTACH;FMTTYPE=image/jpeg:https://test.g-p-z.de/wp-content/uploads/2025/05
 /twie7i1l_e0.jpg
CATEGORIES:TAFF
END:VEVENT
BEGIN:VTIMEZONE
TZID:Europe/Berlin
X-LIC-LOCATION:Europe/Berlin
BEGIN:DAYLIGHT
DTSTART:20250330T030000
TZOFFSETFROM:+0100
TZOFFSETTO:+0200
TZNAME:CEST
END:DAYLIGHT
END:VTIMEZONE
END:VCALENDAR