BEGIN:VCALENDAR
VERSION:2.0
PRODID:-//wp-events-plugin.com//7.2.3.1//EN
TZID:Europe/Berlin
X-WR-TIMEZONE:Europe/Berlin
BEGIN:VEVENT
UID:862@test.g-p-z.de
DTSTART;TZID=Europe/Berlin:20250515T110000
DTEND;TZID=Europe/Berlin:20250515T121500
DTSTAMP:20250505T131220Z
URL:https://test.g-p-z.de/veranstaltungen/ausflug-in-die-kleiderkammer/
SUMMARY:Ausflug in die Kleiderkammer
DESCRIPTION:
ATTACH;FMTTYPE=image/jpeg:https://test.g-p-z.de/wp-content/uploads/2025/05
 /wf0lsthlrmw.jpg
CATEGORIES:ABM
END:VEVENT
BEGIN:VTIMEZONE
TZID:Europe/Berlin
X-LIC-LOCATION:Europe/Berlin
BEGIN:DAYLIGHT
DTSTART:20250330T030000
TZOFFSETFROM:+0100
TZOFFSETTO:+0200
TZNAME:CEST
END:DAYLIGHT
END:VTIMEZONE
END:VCALENDAR